BEGIN:VCALENDAR
VERSION:2.0
PRODID:-//ANFEP - ECPv5.7.1//NONSGML v1.0//EN
CALSCALE:GREGORIAN
METHOD:PUBLISH
X-WR-CALNAME:ANFEP
X-ORIGINAL-URL:https://www.anfep.org.br
X-WR-CALDESC:Eventos para ANFEP
BEGIN:VTIMEZONE
TZID:America/Sao_Paulo
BEGIN:STANDARD
TZOFFSETFROM:-0300
TZOFFSETTO:-0300
TZNAME:-03
DTSTART:20240101T000000
END:STANDARD
END:VTIMEZONE
BEGIN:VEVENT
DTSTART;TZID=America/Sao_Paulo:20241001T113000
DTEND;TZID=America/Sao_Paulo:20241001T123000
DTSTAMP:20260425T221205
CREATED:20241001T144719Z
LAST-MODIFIED:20241001T144728Z
UID:10278-1727782200-1727785800@www.anfep.org.br
SUMMARY:Live de apresentação da ANFEP
DESCRIPTION:Dia 1º/10 \nHorário: 11h30min \nDiretoria e IES convidadas.
URL:https://www.anfep.org.br/evento/live-de-apresentacao-da-anfep/
END:VEVENT
END:VCALENDAR