BEGIN:VCALENDAR
VERSION:2.0
PRODID:-//ANFEP - ECPv5.7.1//NONSGML v1.0//EN
CALSCALE:GREGORIAN
METHOD:PUBLISH
X-WR-CALNAME:ANFEP
X-ORIGINAL-URL:https://www.anfep.org.br
X-WR-CALDESC:Eventos para ANFEP
BEGIN:VTIMEZONE
TZID:America/Sao_Paulo
BEGIN:STANDARD
TZOFFSETFROM:-0300
TZOFFSETTO:-0300
TZNAME:-03
DTSTART:20240101T000000
END:STANDARD
END:VTIMEZONE
BEGIN:VEVENT
DTSTART;TZID=America/Sao_Paulo:20241002T113000
DTEND;TZID=America/Sao_Paulo:20241002T123000
DTSTAMP:20260425T221819
CREATED:20241002T154615Z
LAST-MODIFIED:20241002T154615Z
UID:10282-1727868600-1727872200@www.anfep.org.br
SUMMARY:Reunião extraordinária Conselho Deliberativo do Brasil Educação/Fórum
DESCRIPTION:Horário: 11h30 às 12h30min \nOnline pelo aplicativo Zoom
URL:https://www.anfep.org.br/evento/reuniao-extraordinaria-conselho-deliberativo-do-brasil-educacao-forum/
END:VEVENT
BEGIN:VEVENT
DTSTART;TZID=America/Sao_Paulo:20241002T153000
DTEND;TZID=America/Sao_Paulo:20241002T163000
DTSTAMP:20260425T221819
CREATED:20241002T152305Z
LAST-MODIFIED:20241012T132758Z
UID:10280-1727883000-1727886600@www.anfep.org.br
SUMMARY:Live de apresentação da ANFEP
DESCRIPTION:Diretoria e IES convidadas. \nOnline pelo aplicativo Teams
URL:https://www.anfep.org.br/evento/live-de-apresentacao-da-anfep-2/
END:VEVENT
END:VCALENDAR