BEGIN:VCALENDAR
VERSION:2.0
PRODID:-//ANFEP - ECPv5.7.1//NONSGML v1.0//EN
CALSCALE:GREGORIAN
METHOD:PUBLISH
X-WR-CALNAME:ANFEP
X-ORIGINAL-URL:https://www.anfep.org.br
X-WR-CALDESC:Eventos para ANFEP
BEGIN:VTIMEZONE
TZID:America/Sao_Paulo
BEGIN:STANDARD
TZOFFSETFROM:-0300
TZOFFSETTO:-0300
TZNAME:-03
DTSTART:20240101T000000
END:STANDARD
END:VTIMEZONE
BEGIN:VEVENT
DTSTART;VALUE=DATE:20241015
DTEND;VALUE=DATE:20241016
DTSTAMP:20260425T221221
CREATED:20241012T132706Z
LAST-MODIFIED:20241012T132706Z
UID:10299-1728950400-1729036799@www.anfep.org.br
SUMMARY:Dia mundial do Professor
DESCRIPTION:
URL:https://www.anfep.org.br/evento/dia-mundial-do-professor/
END:VEVENT
END:VCALENDAR