BEGIN:VCALENDAR
VERSION:2.0
PRODID:-//ANFEP - ECPv5.7.1//NONSGML v1.0//EN
CALSCALE:GREGORIAN
METHOD:PUBLISH
X-WR-CALNAME:ANFEP
X-ORIGINAL-URL:https://www.anfep.org.br
X-WR-CALDESC:Eventos para ANFEP
BEGIN:VTIMEZONE
TZID:America/Sao_Paulo
BEGIN:STANDARD
TZOFFSETFROM:-0300
TZOFFSETTO:-0300
TZNAME:-03
DTSTART:20240101T000000
END:STANDARD
END:VTIMEZONE
BEGIN:VEVENT
DTSTART;TZID=America/Sao_Paulo:20241127T200000
DTEND;TZID=America/Sao_Paulo:20241127T220000
DTSTAMP:20260425T203710
CREATED:20241107T175206Z
LAST-MODIFIED:20241107T175206Z
UID:10341-1732737600-1732744800@www.anfep.org.br
SUMMARY:Convite para a Festa Anual e Solenidade de Outorga da Medalha do Mérito Educacional AMIES 2024.
DESCRIPTION:Horário: 20h \nLocal: Espaço Vila Rizza\, em Brasília/DF \n 
URL:https://www.anfep.org.br/evento/convite-para-a-festa-anual-e-solenidade-de-outorga-da-medalha-do-merito-educacional-amies-2024/
END:VEVENT
END:VCALENDAR