BEGIN:VCALENDAR
VERSION:2.0
PRODID:-//ANFEP - ECPv5.7.1//NONSGML v1.0//EN
CALSCALE:GREGORIAN
METHOD:PUBLISH
X-WR-CALNAME:ANFEP
X-ORIGINAL-URL:https://www.anfep.org.br
X-WR-CALDESC:Eventos para ANFEP
BEGIN:VTIMEZONE
TZID:America/Sao_Paulo
BEGIN:STANDARD
TZOFFSETFROM:-0300
TZOFFSETTO:-0300
TZNAME:-03
DTSTART:20240101T000000
END:STANDARD
END:VTIMEZONE
BEGIN:VEVENT
DTSTART;TZID=America/Sao_Paulo:20241202T140000
DTEND;TZID=America/Sao_Paulo:20241202T160000
DTSTAMP:20260425T184246
CREATED:20241212T233750Z
LAST-MODIFIED:20241212T233750Z
UID:10431-1733148000-1733155200@www.anfep.org.br
SUMMARY:Convite Reunião CNE/CP - Estudos Sobre a utilização Inteligência Artificia
DESCRIPTION:  \nHorário: das 14h às 16h – Câmara de Educação Superior (CES) \nPresencial e online
URL:https://www.anfep.org.br/evento/convite-reuniao-cne-cp-estudos-sobre-a-utilizacao-inteligencia-artificia/
END:VEVENT
END:VCALENDAR