BEGIN:VCALENDAR
VERSION:2.0
PRODID:-//ANFEP - ECPv5.7.1//NONSGML v1.0//EN
CALSCALE:GREGORIAN
METHOD:PUBLISH
X-WR-CALNAME:ANFEP
X-ORIGINAL-URL:https://www.anfep.org.br
X-WR-CALDESC:Eventos para ANFEP
BEGIN:VTIMEZONE
TZID:America/Sao_Paulo
BEGIN:STANDARD
TZOFFSETFROM:-0300
TZOFFSETTO:-0300
TZNAME:-03
DTSTART:20250101T000000
END:STANDARD
END:VTIMEZONE
BEGIN:VEVENT
DTSTART;TZID=America/Sao_Paulo:20250102T080000
DTEND;TZID=America/Sao_Paulo:20250121T170000
DTSTAMP:20260425T170208
CREATED:20241218T142744Z
LAST-MODIFIED:20241218T142744Z
UID:10451-1735804800-1737478800@www.anfep.org.br
SUMMARY:Férias coletivas
DESCRIPTION:
URL:https://www.anfep.org.br/evento/ferias-coletivas-2/
END:VEVENT
END:VCALENDAR