BEGIN:VCALENDAR
VERSION:2.0
PRODID:-//ANFEP - ECPv5.7.1//NONSGML v1.0//EN
CALSCALE:GREGORIAN
METHOD:PUBLISH
X-WR-CALNAME:ANFEP
X-ORIGINAL-URL:https://www.anfep.org.br
X-WR-CALDESC:Eventos para ANFEP
BEGIN:VTIMEZONE
TZID:America/Sao_Paulo
BEGIN:STANDARD
TZOFFSETFROM:-0300
TZOFFSETTO:-0300
TZNAME:-03
DTSTART:20250101T000000
END:STANDARD
END:VTIMEZONE
BEGIN:VEVENT
DTSTART;TZID=America/Sao_Paulo:20250226T093000
DTEND;TZID=America/Sao_Paulo:20250226T103000
DTSTAMP:20260425T132233
CREATED:20250228T191124Z
LAST-MODIFIED:20250228T191124Z
UID:10513-1740562200-1740565800@www.anfep.org.br
SUMMARY:Encontro de apresentação novo coordenador MPMG/CAO-Terceiro Setor
DESCRIPTION:Local: MP/CAOTS em BH \nHorário: 9h30min
URL:https://www.anfep.org.br/evento/encontro-de-apresentacao-novo-coordenador-mpmg-cao-terceiro-setor/
END:VEVENT
BEGIN:VEVENT
DTSTART;TZID=America/Sao_Paulo:20250226T143000
DTEND;TZID=America/Sao_Paulo:20250226T170000
DTSTAMP:20260425T132233
CREATED:20250228T191221Z
LAST-MODIFIED:20250228T191238Z
UID:10515-1740580200-1740589200@www.anfep.org.br
SUMMARY:Agenda com o Promotor do CAOTS/MP x ANFEP
DESCRIPTION:Local: MP/CAOTS em BH \nHorário: 14h30min
URL:https://www.anfep.org.br/evento/agenda-com-o-promotor-do-caots-mp-x-anfep/
END:VEVENT
END:VCALENDAR