BEGIN:VCALENDAR
VERSION:2.0
PRODID:-//ANFEP - ECPv5.7.1//NONSGML v1.0//EN
CALSCALE:GREGORIAN
METHOD:PUBLISH
X-WR-CALNAME:ANFEP
X-ORIGINAL-URL:https://www.anfep.org.br
X-WR-CALDESC:Eventos para ANFEP
BEGIN:VTIMEZONE
TZID:America/Sao_Paulo
BEGIN:STANDARD
TZOFFSETFROM:-0300
TZOFFSETTO:-0300
TZNAME:-03
DTSTART:20250101T000000
END:STANDARD
END:VTIMEZONE
BEGIN:VEVENT
DTSTART;VALUE=DATE:20250304
DTEND;VALUE=DATE:20250305
DTSTAMP:20260425T133203
CREATED:20250228T191424Z
LAST-MODIFIED:20250228T191424Z
UID:10521-1741046400-1741132799@www.anfep.org.br
SUMMARY:Carnaval - Ponto facultativo
DESCRIPTION:
URL:https://www.anfep.org.br/evento/carnaval-ponto-facultativo-5/
END:VEVENT
END:VCALENDAR