BEGIN:VCALENDAR
VERSION:2.0
PRODID:-//ANFEP - ECPv5.7.1//NONSGML v1.0//EN
CALSCALE:GREGORIAN
METHOD:PUBLISH
X-WR-CALNAME:ANFEP
X-ORIGINAL-URL:https://www.anfep.org.br
X-WR-CALDESC:Eventos para ANFEP
BEGIN:VTIMEZONE
TZID:America/Sao_Paulo
BEGIN:STANDARD
TZOFFSETFROM:-0300
TZOFFSETTO:-0300
TZNAME:-03
DTSTART:20250101T000000
END:STANDARD
END:VTIMEZONE
BEGIN:VEVENT
DTSTART;TZID=America/Sao_Paulo:20250515T110000
DTEND;TZID=America/Sao_Paulo:20250515T130000
DTSTAMP:20260425T093810
CREATED:20250514T142633Z
LAST-MODIFIED:20250514T142633Z
UID:10720-1747306800-1747314000@www.anfep.org.br
SUMMARY:Bate-papo da diretoria com integrantes dos grupos no WhatsApp
DESCRIPTION:*Dia 15/05 \nHorário: 11 horas via aplicativo Teams \n 
URL:https://www.anfep.org.br/evento/bate-papo-da-diretoria-com-integrantes-dos-grupos-no-whatsapp/
END:VEVENT
END:VCALENDAR