BEGIN:VCALENDAR
VERSION:2.0
PRODID:-//ANFEP - ECPv5.7.1//NONSGML v1.0//EN
CALSCALE:GREGORIAN
METHOD:PUBLISH
X-WR-CALNAME:ANFEP
X-ORIGINAL-URL:https://www.anfep.org.br
X-WR-CALDESC:Eventos para ANFEP
BEGIN:VTIMEZONE
TZID:America/Sao_Paulo
BEGIN:STANDARD
TZOFFSETFROM:-0300
TZOFFSETTO:-0300
TZNAME:-03
DTSTART:20250101T000000
END:STANDARD
END:VTIMEZONE
BEGIN:VEVENT
DTSTART;TZID=America/Sao_Paulo:20250520T090000
DTEND;TZID=America/Sao_Paulo:20250520T130000
DTSTAMP:20260425T093711
CREATED:20250520T120151Z
LAST-MODIFIED:20250520T120151Z
UID:10735-1747731600-1747746000@www.anfep.org.br
SUMMARY:Convite SERES/MEC: Novo marco regulatório da Educação a Distância
DESCRIPTION:Horário: Das 9h às 13horas \nLocal: Esplanada dos Ministérios\, bloco L\, Térreo – Brasília – DF
URL:https://www.anfep.org.br/evento/convite-seres-mec-novo-marco-regulatorio-da-educacao-a-distancia/
END:VEVENT
END:VCALENDAR