BEGIN:VCALENDAR
VERSION:2.0
PRODID:-//ANFEP - ECPv5.7.1//NONSGML v1.0//EN
CALSCALE:GREGORIAN
METHOD:PUBLISH
X-WR-CALNAME:ANFEP
X-ORIGINAL-URL:https://www.anfep.org.br
X-WR-CALDESC:Eventos para ANFEP
BEGIN:VTIMEZONE
TZID:America/Sao_Paulo
BEGIN:STANDARD
TZOFFSETFROM:-0300
TZOFFSETTO:-0300
TZNAME:-03
DTSTART:20260101T000000
END:STANDARD
END:VTIMEZONE
BEGIN:VEVENT
DTSTART;TZID=America/Sao_Paulo:20260331T160000
DTEND;TZID=America/Sao_Paulo:20260331T180000
DTSTAMP:20260421T050840
CREATED:20260323T140630Z
LAST-MODIFIED:20260323T140630Z
UID:11565-1774972800-1774980000@www.anfep.org.br
SUMMARY:Assembleia Geral Ordinária da ANFEP
DESCRIPTION:Horário: 16h (1ª convocação) \nOnline pelo aplicativo Teams
URL:https://www.anfep.org.br/evento/assembleia-geral-ordinaria-da-anfep/
END:VEVENT
BEGIN:VEVENT
DTSTART;VALUE=DATE:20260403
DTEND;VALUE=DATE:20260404
DTSTAMP:20260421T050840
CREATED:20260204T234007Z
LAST-MODIFIED:20260211T102329Z
UID:11516-1775174400-1775260799@www.anfep.org.br
SUMMARY:Paixão de Cristo
DESCRIPTION:
URL:https://www.anfep.org.br/evento/paixao-de-cristo-2/
END:VEVENT
BEGIN:VEVENT
DTSTART;VALUE=DATE:20260404
DTEND;VALUE=DATE:20260405
DTSTAMP:20260421T050840
CREATED:20260331T125612Z
LAST-MODIFIED:20260331T125636Z
UID:11582-1775260800-1775347199@www.anfep.org.br
SUMMARY:Aniversário da ANFEP - 25 anos!
DESCRIPTION:
URL:https://www.anfep.org.br/evento/dia-4-4-aniversario-da-anfep-25-anos/
END:VEVENT
BEGIN:VEVENT
DTSTART;VALUE=DATE:20260405
DTEND;VALUE=DATE:20260406
DTSTAMP:20260421T050840
CREATED:20260331T125652Z
LAST-MODIFIED:20260331T125652Z
UID:11585-1775347200-1775433599@www.anfep.org.br
SUMMARY:Páscoa
DESCRIPTION:
URL:https://www.anfep.org.br/evento/pascoa-5/
END:VEVENT
BEGIN:VEVENT
DTSTART;TZID=America/Sao_Paulo:20260415T100000
DTEND;TZID=America/Sao_Paulo:20260415T120000
DTSTAMP:20260421T050840
CREATED:20260331T125756Z
LAST-MODIFIED:20260331T125951Z
UID:11587-1776247200-1776254400@www.anfep.org.br
SUMMARY:Reunião do Conselho Deliberativo do Brasil Educação - Fórum
DESCRIPTION:Horário: 10h – Via aplicativo Teams
URL:https://www.anfep.org.br/evento/reuniao-do-conselho-deliberativo-do-brasil-educacao-forum-5/
END:VEVENT
BEGIN:VEVENT
DTSTART;VALUE=DATE:20260421
DTEND;VALUE=DATE:20260422
DTSTAMP:20260421T050840
CREATED:20260406T092438Z
LAST-MODIFIED:20260406T092532Z
UID:11603-1776729600-1776815999@www.anfep.org.br
SUMMARY:Tiradentes (Feriado Nacional)
DESCRIPTION:
URL:https://www.anfep.org.br/evento/tiradentes/
END:VEVENT
BEGIN:VEVENT
DTSTART;VALUE=DATE:20260501
DTEND;VALUE=DATE:20260502
DTSTAMP:20260421T050840
CREATED:20260406T092559Z
LAST-MODIFIED:20260406T092559Z
UID:11606-1777593600-1777679999@www.anfep.org.br
SUMMARY:Dia do Trabalhador (Feriado nacional)
DESCRIPTION:
URL:https://www.anfep.org.br/evento/dia-do-trabalhador-feriado-nacional-2/
END:VEVENT
END:VCALENDAR