BEGIN:VCALENDAR
VERSION:2.0
PRODID:-//ANFEP - ECPv5.7.1//NONSGML v1.0//EN
CALSCALE:GREGORIAN
METHOD:PUBLISH
X-WR-CALNAME:ANFEP
X-ORIGINAL-URL:https://www.anfep.org.br
X-WR-CALDESC:Eventos para ANFEP
BEGIN:VTIMEZONE
TZID:America/Sao_Paulo
BEGIN:STANDARD
TZOFFSETFROM:-0300
TZOFFSETTO:-0300
TZNAME:-03
DTSTART:20250101T000000
END:STANDARD
END:VTIMEZONE
BEGIN:VEVENT
DTSTART;TZID=America/Sao_Paulo:20251202T103000
DTEND;TZID=America/Sao_Paulo:20251202T123000
DTSTAMP:20260424T012909
CREATED:20251222T132307Z
LAST-MODIFIED:20251222T132307Z
UID:11396-1764671400-1764678600@www.anfep.org.br
SUMMARY:AGE / Assembleia Geral Extraordinária da ANFEP
DESCRIPTION:10h30m: 1ª convocação \n11h: 2ª convocação\, com qualquer número de presentes \nVia aplicativo Teams
URL:https://www.anfep.org.br/evento/age-assembleia-geral-extraordinaria-da-anfep/
END:VEVENT
END:VCALENDAR