BEGIN:VCALENDAR
VERSION:2.0
PRODID:-//ANFEP - ECPv5.7.1//NONSGML v1.0//EN
CALSCALE:GREGORIAN
METHOD:PUBLISH
X-WR-CALNAME:ANFEP
X-ORIGINAL-URL:https://www.anfep.org.br
X-WR-CALDESC:Eventos para ANFEP
BEGIN:VTIMEZONE
TZID:America/Sao_Paulo
BEGIN:STANDARD
TZOFFSETFROM:-0300
TZOFFSETTO:-0300
TZNAME:-03
DTSTART:20250101T000000
END:STANDARD
END:VTIMEZONE
BEGIN:VEVENT
DTSTART;TZID=America/Sao_Paulo:20250311T150000
DTEND;TZID=America/Sao_Paulo:20250311T160000
DTSTAMP:20260425T132617
CREATED:20250228T191327Z
LAST-MODIFIED:20250228T191328Z
UID:10517-1741705200-1741708800@www.anfep.org.br
SUMMARY:AGO da ANFEP
DESCRIPTION:Horário: 15h (1ª convocação) e às 15h30min (2ª convocação) \nPauta: Eleição da diretoria
URL:https://www.anfep.org.br/evento/ago-da-anfep/
END:VEVENT
END:VCALENDAR