BEGIN:VCALENDAR
VERSION:2.0
PRODID:-//ANFEP - ECPv5.7.1//NONSGML v1.0//EN
CALSCALE:GREGORIAN
METHOD:PUBLISH
X-WR-CALNAME:ANFEP
X-ORIGINAL-URL:https://www.anfep.org.br
X-WR-CALDESC:Eventos para ANFEP
BEGIN:VTIMEZONE
TZID:America/Sao_Paulo
BEGIN:STANDARD
TZOFFSETFROM:-0300
TZOFFSETTO:-0300
TZNAME:-03
DTSTART:20250101T000000
END:STANDARD
END:VTIMEZONE
BEGIN:VEVENT
DTSTART;TZID=America/Sao_Paulo:20250327T143000
DTEND;TZID=America/Sao_Paulo:20250327T163000
DTSTAMP:20260425T134007
CREATED:20250320T125021Z
LAST-MODIFIED:20250320T125021Z
UID:10572-1743085800-1743093000@www.anfep.org.br
SUMMARY:Bate-papo: Anfep x Facesm
DESCRIPTION:Horário: 14h30min \nVia aplicativo Teams
URL:https://www.anfep.org.br/evento/bate-papo-anfep-x-facesm/
END:VEVENT
END:VCALENDAR