BEGIN:VCALENDAR
VERSION:2.0
PRODID:-//ANFEP - ECPv5.7.1//NONSGML v1.0//EN
CALSCALE:GREGORIAN
METHOD:PUBLISH
X-WR-CALNAME:ANFEP
X-ORIGINAL-URL:https://www.anfep.org.br
X-WR-CALDESC:Eventos para ANFEP
BEGIN:VTIMEZONE
TZID:America/Sao_Paulo
BEGIN:STANDARD
TZOFFSETFROM:-0300
TZOFFSETTO:-0300
TZNAME:-03
DTSTART:20250101T000000
END:STANDARD
END:VTIMEZONE
BEGIN:VEVENT
DTSTART;TZID=America/Sao_Paulo:20250926T110000
DTEND;TZID=America/Sao_Paulo:20250926T120000
DTSTAMP:20260415T142949
CREATED:20250924T193648Z
LAST-MODIFIED:20250924T193648Z
UID:11222-1758884400-1758888000@www.anfep.org.br
SUMMARY:Bate-papo dos integrantes do grupo de TI da ANFEP
DESCRIPTION:Horário: 11h até 11h40min \nPauta: Troca de experiências e informações.
URL:https://www.anfep.org.br/evento/bate-papo-dos-integrantes-do-grupo-de-ti-da-anfep/
END:VEVENT
END:VCALENDAR