BEGIN:VCALENDAR
VERSION:2.0
PRODID:-//ANFEP - ECPv5.7.1//NONSGML v1.0//EN
CALSCALE:GREGORIAN
METHOD:PUBLISH
X-WR-CALNAME:ANFEP
X-ORIGINAL-URL:https://www.anfep.org.br
X-WR-CALDESC:Eventos para ANFEP
BEGIN:VTIMEZONE
TZID:America/Sao_Paulo
BEGIN:STANDARD
TZOFFSETFROM:-0300
TZOFFSETTO:-0300
TZNAME:-03
DTSTART:20250101T000000
END:STANDARD
END:VTIMEZONE
BEGIN:VEVENT
DTSTART;VALUE=DATE:20251102
DTEND;VALUE=DATE:20251103
DTSTAMP:20260423T153144
CREATED:20251022T194944Z
LAST-MODIFIED:20251022T194944Z
UID:11316-1762041600-1762127999@www.anfep.org.br
SUMMARY:Feriado Nacional - Dia de Finados
DESCRIPTION:
URL:https://www.anfep.org.br/evento/feriado-nacional-dia-de-finados/
END:VEVENT
END:VCALENDAR