BEGIN:VCALENDAR
VERSION:2.0
PRODID:-//ANFEP - ECPv5.7.1//NONSGML v1.0//EN
CALSCALE:GREGORIAN
METHOD:PUBLISH
X-WR-CALNAME:ANFEP
X-ORIGINAL-URL:https://www.anfep.org.br
X-WR-CALDESC:Eventos para ANFEP
BEGIN:VTIMEZONE
TZID:America/Sao_Paulo
BEGIN:STANDARD
TZOFFSETFROM:-0300
TZOFFSETTO:-0300
TZNAME:-03
DTSTART:20250101T000000
END:STANDARD
END:VTIMEZONE
BEGIN:VEVENT
DTSTART;VALUE=DATE:20251012
DTEND;VALUE=DATE:20251013
DTSTAMP:20260420T103251
CREATED:20250922T123208Z
LAST-MODIFIED:20250922T123208Z
UID:11190-1760227200-1760313599@www.anfep.org.br
SUMMARY:Feriado Nacional - Dia de Nossa Senhora Aparecida e Dia das Crianças.
DESCRIPTION:
URL:https://www.anfep.org.br/evento/feriado-nacional-dia-de-nossa-senhora-aparecida-e-dia-das-criancas/
END:VEVENT
END:VCALENDAR