BEGIN:VCALENDAR
VERSION:2.0
PRODID:-//ANFEP - ECPv5.7.1//NONSGML v1.0//EN
CALSCALE:GREGORIAN
METHOD:PUBLISH
X-WR-CALNAME:ANFEP
X-ORIGINAL-URL:https://www.anfep.org.br
X-WR-CALDESC:Eventos para ANFEP
BEGIN:VTIMEZONE
TZID:America/Sao_Paulo
BEGIN:STANDARD
TZOFFSETFROM:-0300
TZOFFSETTO:-0300
TZNAME:-03
DTSTART:20250101T000000
END:STANDARD
END:VTIMEZONE
BEGIN:VEVENT
DTSTART;VALUE=DATE:20250326
DTEND;VALUE=DATE:20250329
DTSTAMP:20260425T133847
CREATED:20250320T122344Z
LAST-MODIFIED:20250326T223457Z
UID:10564-1742947200-1743206399@www.anfep.org.br
SUMMARY:Geduc 2025
DESCRIPTION:Local: PRO MAGNO Centro de Eventos\nAv. Pfa. Ida Kolb\, 513 – Jardim das Laranjeiras\, São Paulo – SP\nOutras informações e inscrições em:  https://www.humus.com.br/ \n 
URL:https://www.anfep.org.br/evento/geduc-2025/
END:VEVENT
END:VCALENDAR