BEGIN:VCALENDAR
VERSION:2.0
PRODID:-//ANFEP - ECPv5.7.1//NONSGML v1.0//EN
CALSCALE:GREGORIAN
METHOD:PUBLISH
X-WR-CALNAME:ANFEP
X-ORIGINAL-URL:https://www.anfep.org.br
X-WR-CALDESC:Eventos para ANFEP
BEGIN:VTIMEZONE
TZID:America/Sao_Paulo
BEGIN:STANDARD
TZOFFSETFROM:-0300
TZOFFSETTO:-0300
TZNAME:-03
DTSTART:20250101T000000
END:STANDARD
END:VTIMEZONE
BEGIN:VEVENT
DTSTART;VALUE=DATE:20251031
DTEND;VALUE=DATE:20251101
DTSTAMP:20260423T114643
CREATED:20250922T123357Z
LAST-MODIFIED:20250922T123357Z
UID:11197-1761868800-1761955199@www.anfep.org.br
SUMMARY:Ponto facultativo - Dia do Servidor Público
DESCRIPTION:
URL:https://www.anfep.org.br/evento/ponto-facultativo-dia-do-servidor-publico/
END:VEVENT
END:VCALENDAR