BEGIN:VCALENDAR
VERSION:2.0
PRODID:-//ANFEP - ECPv5.7.1//NONSGML v1.0//EN
CALSCALE:GREGORIAN
METHOD:PUBLISH
X-WR-CALNAME:ANFEP
X-ORIGINAL-URL:https://www.anfep.org.br
X-WR-CALDESC:Eventos para ANFEP
BEGIN:VTIMEZONE
TZID:America/Sao_Paulo
BEGIN:STANDARD
TZOFFSETFROM:-0300
TZOFFSETTO:-0300
TZNAME:-03
DTSTART:20240101T000000
END:STANDARD
END:VTIMEZONE
BEGIN:VEVENT
DTSTART;VALUE=DATE:20241231
DTEND;VALUE=DATE:20250101
DTSTAMP:20260425T170725
CREATED:20241212T233906Z
LAST-MODIFIED:20241212T233959Z
UID:10437-1735603200-1735689599@www.anfep.org.br
SUMMARY:Ponto Facultativo - Véspera de Ano Novo
DESCRIPTION:
URL:https://www.anfep.org.br/evento/ponto-facultativo-vespera-de-ano-novo-2/
END:VEVENT
END:VCALENDAR