BEGIN:VCALENDAR
VERSION:2.0
PRODID:-//ANFEP - ECPv5.7.1//NONSGML v1.0//EN
CALSCALE:GREGORIAN
METHOD:PUBLISH
X-WR-CALNAME:ANFEP
X-ORIGINAL-URL:https://www.anfep.org.br
X-WR-CALDESC:Eventos para ANFEP
BEGIN:VTIMEZONE
TZID:America/Sao_Paulo
BEGIN:STANDARD
TZOFFSETFROM:-0300
TZOFFSETTO:-0300
TZNAME:-03
DTSTART:20250101T000000
END:STANDARD
END:VTIMEZONE
BEGIN:VEVENT
DTSTART;VALUE=DATE:20250305
DTEND;VALUE=DATE:20250306
DTSTAMP:20260425T134308
CREATED:20250228T191450Z
LAST-MODIFIED:20250228T191450Z
UID:10523-1741132800-1741219199@www.anfep.org.br
SUMMARY:Quarta-feira de cinzas - Ponto facultativo
DESCRIPTION:
URL:https://www.anfep.org.br/evento/quarta-feira-de-cinzas-ponto-facultativo/
END:VEVENT
END:VCALENDAR