BEGIN:VCALENDAR
VERSION:2.0
PRODID:-//ANFEP - ECPv5.7.1//NONSGML v1.0//EN
CALSCALE:GREGORIAN
METHOD:PUBLISH
X-WR-CALNAME:ANFEP
X-ORIGINAL-URL:https://www.anfep.org.br
X-WR-CALDESC:Eventos para ANFEP
BEGIN:VTIMEZONE
TZID:America/Sao_Paulo
BEGIN:STANDARD
TZOFFSETFROM:-0300
TZOFFSETTO:-0300
TZNAME:-03
DTSTART:20250101T000000
END:STANDARD
END:VTIMEZONE
BEGIN:VEVENT
DTSTART;TZID=America/Sao_Paulo:20250327T110000
DTEND;TZID=America/Sao_Paulo:20250327T120000
DTSTAMP:20260425T134159
CREATED:20250228T195701Z
LAST-MODIFIED:20250228T195707Z
UID:10536-1743073200-1743076800@www.anfep.org.br
SUMMARY:Reunião com a diretoria do CGCEBAS/Seres/MEC
DESCRIPTION:Horário: 11h às 12h \nPauta: Assuntos de interesse das filiadas
URL:https://www.anfep.org.br/evento/reuniao-com-a-diretoria-do-cgcebas-seres-mec/
END:VEVENT
END:VCALENDAR