BEGIN:VCALENDAR
VERSION:2.0
PRODID:-//ANFEP - ECPv5.7.1//NONSGML v1.0//EN
CALSCALE:GREGORIAN
METHOD:PUBLISH
X-WR-CALNAME:ANFEP
X-ORIGINAL-URL:https://www.anfep.org.br
X-WR-CALDESC:Eventos para ANFEP
BEGIN:VTIMEZONE
TZID:America/Sao_Paulo
BEGIN:STANDARD
TZOFFSETFROM:-0300
TZOFFSETTO:-0300
TZNAME:-03
DTSTART:20250101T000000
END:STANDARD
END:VTIMEZONE
BEGIN:VEVENT
DTSTART;TZID=America/Sao_Paulo:20250926T150000
DTEND;TZID=America/Sao_Paulo:20250926T150000
DTSTAMP:20260421T091159
CREATED:20250820T190506Z
LAST-MODIFIED:20250922T122914Z
UID:11091-1758898800-1758898800@www.anfep.org.br
SUMMARY:Reunião da diretoria
DESCRIPTION:Via aplicativo Teams \nHorário: 11h
URL:https://www.anfep.org.br/evento/reuniao-da-diretoria-11/
END:VEVENT
END:VCALENDAR