BEGIN:VCALENDAR
VERSION:2.0
PRODID:-//ANFEP - ECPv5.7.1//NONSGML v1.0//EN
CALSCALE:GREGORIAN
METHOD:PUBLISH
X-WR-CALNAME:ANFEP
X-ORIGINAL-URL:https://www.anfep.org.br
X-WR-CALDESC:Eventos para ANFEP
BEGIN:VTIMEZONE
TZID:America/Sao_Paulo
BEGIN:STANDARD
TZOFFSETFROM:-0300
TZOFFSETTO:-0300
TZNAME:-03
DTSTART:20240101T000000
END:STANDARD
END:VTIMEZONE
BEGIN:VEVENT
DTSTART;TZID=America/Sao_Paulo:20240903T110000
DTEND;TZID=America/Sao_Paulo:20240903T120000
DTSTAMP:20260425T235914
CREATED:20240904T201837Z
LAST-MODIFIED:20240904T201838Z
UID:10236-1725361200-1725364800@www.anfep.org.br
SUMMARY:Reunião da diretoria
DESCRIPTION:Horário: 11h \nVia aplicativo Teams
URL:https://www.anfep.org.br/evento/reuniao-da-diretoria-9/
END:VEVENT
END:VCALENDAR