BEGIN:VCALENDAR
VERSION:2.0
PRODID:-//ANFEP - ECPv5.7.1//NONSGML v1.0//EN
CALSCALE:GREGORIAN
METHOD:PUBLISH
X-WR-CALNAME:ANFEP
X-ORIGINAL-URL:https://www.anfep.org.br
X-WR-CALDESC:Eventos para ANFEP
BEGIN:VTIMEZONE
TZID:America/Sao_Paulo
BEGIN:STANDARD
TZOFFSETFROM:-0300
TZOFFSETTO:-0300
TZNAME:-03
DTSTART:20250101T000000
END:STANDARD
END:VTIMEZONE
BEGIN:VEVENT
DTSTART;TZID=America/Sao_Paulo:20250911T090000
DTEND;TZID=America/Sao_Paulo:20250911T100000
DTSTAMP:20260415T142324
CREATED:20250910T131220Z
LAST-MODIFIED:20250910T131221Z
UID:11167-1757581200-1757584800@www.anfep.org.br
SUMMARY:Reunião da diretoria da ANFEP com a Unincor
DESCRIPTION:Local: Av. Castelo Branco\, 82 – Chácara das Rosas\, Três Corações/MG.
URL:https://www.anfep.org.br/evento/reuniao-da-diretoria-da-anfep-com-a-unincor/
END:VEVENT
END:VCALENDAR