BEGIN:VCALENDAR
VERSION:2.0
PRODID:-//ANFEP - ECPv5.7.1//NONSGML v1.0//EN
CALSCALE:GREGORIAN
METHOD:PUBLISH
X-WR-CALNAME:ANFEP
X-ORIGINAL-URL:https://www.anfep.org.br
X-WR-CALDESC:Eventos para ANFEP
BEGIN:VTIMEZONE
TZID:America/Sao_Paulo
BEGIN:STANDARD
TZOFFSETFROM:-0300
TZOFFSETTO:-0300
TZNAME:-03
DTSTART:20250101T000000
END:STANDARD
END:VTIMEZONE
BEGIN:VEVENT
DTSTART;TZID=America/Sao_Paulo:20251007T140000
DTEND;TZID=America/Sao_Paulo:20251007T150000
DTSTAMP:20260415T142948
CREATED:20250922T123017Z
LAST-MODIFIED:20250922T123019Z
UID:11186-1759845600-1759849200@www.anfep.org.br
SUMMARY:Reunião da diretoria da ANFEP com o Procurador do CAO-TS/MG
DESCRIPTION:Horário: 14h \nEndereço: Rua Gonçalves Dias\, nº 2039 (6º andar) – Bairro Lourdes \nBelo Horizonte/MG
URL:https://www.anfep.org.br/evento/reuniao-da-diretoria-da-anfep-com-o-procurador-do-cao-ts-mg/
END:VEVENT
END:VCALENDAR